Package: flowGraph Version: 1.15.0 Command: /Library/Frameworks/R.framework/Resources/bin/R CMD build --keep-empty-dirs --no-resave-data flowGraph StartedAt: 2025-02-21 16:43:38 -0500 (Fri, 21 Feb 2025) EndedAt: 2025-02-21 16:44:28 -0500 (Fri, 21 Feb 2025) EllapsedTime: 50.3 seconds RetCode: 0 Status: OK PackageFile: flowGraph_1.15.0.tar.gz PackageFileSize: 2.078 MiB