Package: flowGraph Version: 1.15.0 Command: /Library/Frameworks/R.framework/Resources/bin/R CMD check --install=check:flowGraph.install-out.txt --library=/Library/Frameworks/R.framework/Resources/library --no-vignettes --timings flowGraph_1.15.0.tar.gz StartedAt: 2025-02-20 19:18:26 -0500 (Thu, 20 Feb 2025) EndedAt: 2025-02-20 19:19:51 -0500 (Thu, 20 Feb 2025) EllapsedTime: 85.1 seconds RetCode: 0 Status: OK CheckDir: flowGraph.Rcheck Warnings: 0