Package: flowGate Version: 1.7.0 Command: E:\biocbuild\bbs-3.21-bioc\R\bin\R.exe CMD INSTALL flowGate StartedAt: 2025-02-20 15:55:08 -0500 (Thu, 20 Feb 2025) EndedAt: 2025-02-20 15:55:32 -0500 (Thu, 20 Feb 2025) EllapsedTime: 23.5 seconds RetCode: 0 Status: OK