Package: flowGate Version: 1.7.0 Command: E:\biocbuild\bbs-3.21-bioc\R\bin\R.exe CMD check --no-multiarch --install=check:flowGate.install-out.txt --library=E:\biocbuild\bbs-3.21-bioc\R\library --no-vignettes --timings flowGate_1.7.0.tar.gz StartedAt: 2025-02-21 01:27:05 -0500 (Fri, 21 Feb 2025) EndedAt: 2025-02-21 01:28:51 -0500 (Fri, 21 Feb 2025) EllapsedTime: 105.7 seconds RetCode: 0 Status: OK CheckDir: flowGate.Rcheck Warnings: 0