Package: flowGate Version: 1.7.0 Command: rm -rf flowGate.buildbin-libdir && mkdir flowGate.buildbin-libdir && E:\biocbuild\bbs-3.21-bioc\R\bin\R.exe CMD INSTALL --build --library=flowGate.buildbin-libdir flowGate_1.7.0.tar.gz StartedAt: 2025-02-21 08:06:58 -0500 (Fri, 21 Feb 2025) EndedAt: 2025-02-21 08:07:25 -0500 (Fri, 21 Feb 2025) EllapsedTime: 27.8 seconds RetCode: 0 Status: OK PackageFile: flowGate_1.7.0.zip PackageFileSize: 1.175 MiB