Package: flowGate Version: 1.7.0 Command: /home/biocbuild/bbs-3.21-bioc/R/bin/R CMD INSTALL flowGate StartedAt: 2025-02-20 15:45:16 -0500 (Thu, 20 Feb 2025) EndedAt: 2025-02-20 15:45:17 -0500 (Thu, 20 Feb 2025) EllapsedTime: 1.1 seconds RetCode: 1 Status: ERROR