############################################################################## ############################################################################## ### ### Running command: ### ### /home/biocbuild/bbs-3.21-bioc/R/bin/R CMD build --keep-empty-dirs --no-resave-data flowGate ### ############################################################################## ############################################################################## * checking for file ‘flowGate/DESCRIPTION’ ... OK * preparing ‘flowGate’: * checking DESCRIPTION meta-information ... OK * installing the package to build vignettes ----------------------------------- ERROR: dependencies ‘flowWorkspace’, ‘ggcyto’ are not available for package ‘flowGate’ Perhaps try a variation of: install.packages(c('flowWorkspace', 'ggcyto')) * removing ‘/tmp/RtmpvuvjWX/Rinst15d7a14bd8d239/flowGate’ ----------------------------------- ERROR: package installation failed