Package: flowGate Version: 1.7.0 Command: /Library/Frameworks/R.framework/Resources/bin/R CMD check --install=check:flowGate.install-out.txt --library=/Library/Frameworks/R.framework/Resources/library --no-vignettes --timings flowGate_1.7.0.tar.gz StartedAt: 2025-02-20 19:18:26 -0500 (Thu, 20 Feb 2025) EndedAt: 2025-02-20 19:19:00 -0500 (Thu, 20 Feb 2025) EllapsedTime: 34.4 seconds RetCode: 0 Status: OK CheckDir: flowGate.Rcheck Warnings: 0