Package: flowFP Version: 1.65.0 Command: chmod a+r flowFP -R && E:\biocbuild\bbs-3.21-bioc\R\bin\R.exe CMD build --keep-empty-dirs --no-resave-data flowFP StartedAt: 2025-02-18 18:42:46 -0500 (Tue, 18 Feb 2025) EndedAt: 2025-02-18 18:43:49 -0500 (Tue, 18 Feb 2025) EllapsedTime: 63.6 seconds RetCode: 0 Status: OK PackageFile: flowFP_1.65.0.tar.gz PackageFileSize: 5.121 MiB