Package: flowFP Version: 1.65.0 Command: /Library/Frameworks/R.framework/Resources/bin/R CMD build --keep-empty-dirs --no-resave-data flowFP StartedAt: 2025-02-18 16:21:54 -0500 (Tue, 18 Feb 2025) EndedAt: 2025-02-18 16:22:08 -0500 (Tue, 18 Feb 2025) EllapsedTime: 14.2 seconds RetCode: 0 Status: OK PackageFile: flowFP_1.65.0.tar.gz PackageFileSize: 5.132 MiB