Package: flowDensity Version: 1.41.0 Command: E:\biocbuild\bbs-3.21-bioc\R\bin\R.exe CMD INSTALL flowDensity StartedAt: 2025-02-21 16:36:32 -0500 (Fri, 21 Feb 2025) EndedAt: 2025-02-21 16:37:03 -0500 (Fri, 21 Feb 2025) EllapsedTime: 30.6 seconds RetCode: 0 Status: OK