Package: flowDensity Version: 1.41.0 Command: E:\biocbuild\bbs-3.21-bioc\R\bin\R.exe CMD check --no-multiarch --install=check:flowDensity.install-out.txt --library=E:\biocbuild\bbs-3.21-bioc\R\library --no-vignettes --timings flowDensity_1.41.0.tar.gz StartedAt: 2025-02-22 01:55:43 -0500 (Sat, 22 Feb 2025) EndedAt: 2025-02-22 01:57:03 -0500 (Sat, 22 Feb 2025) EllapsedTime: 79.8 seconds RetCode: 0 Status: WARNINGS CheckDir: flowDensity.Rcheck Warnings: 3