Package: flowDensity Version: 1.41.0 Command: /Library/Frameworks/R.framework/Resources/bin/R CMD check --install=check:flowDensity.install-out.txt --library=/Library/Frameworks/R.framework/Resources/library --no-vignettes --timings flowDensity_1.41.0.tar.gz StartedAt: 2025-02-21 20:29:43 -0500 (Fri, 21 Feb 2025) EndedAt: 2025-02-21 20:30:54 -0500 (Fri, 21 Feb 2025) EllapsedTime: 70.5 seconds RetCode: 0 Status: WARNINGS CheckDir: flowDensity.Rcheck Warnings: 3