Package: flowDensity Version: 1.41.0 Command: /Library/Frameworks/R.framework/Resources/bin/R CMD check --install=check:flowDensity.install-out.txt --library=/Library/Frameworks/R.framework/Resources/library --no-vignettes --timings flowDensity_1.41.0.tar.gz StartedAt: 2025-02-20 19:18:07 -0500 (Thu, 20 Feb 2025) EndedAt: 2025-02-20 19:18:32 -0500 (Thu, 20 Feb 2025) EllapsedTime: 24.3 seconds RetCode: 0 Status: WARNINGS CheckDir: flowDensity.Rcheck Warnings: 3