Package: flowCyBar Version: 1.43.0 Command: /home/biocbuild/bbs-3.21-bioc/R/bin/R CMD INSTALL flowCyBar StartedAt: 2025-02-17 15:06:37 -0500 (Mon, 17 Feb 2025) EndedAt: 2025-02-17 15:07:11 -0500 (Mon, 17 Feb 2025) EllapsedTime: 33.5 seconds RetCode: 0 Status: OK