Package: flowCyBar Version: 1.43.0 Command: /home/biocbuild/bbs-3.21-bioc/R/bin/R CMD build --keep-empty-dirs --no-resave-data flowCyBar StartedAt: 2025-02-17 17:13:53 -0500 (Mon, 17 Feb 2025) EndedAt: 2025-02-17 17:14:09 -0500 (Mon, 17 Feb 2025) EllapsedTime: 16.0 seconds RetCode: 0 Status: OK PackageFile: flowCyBar_1.43.0.tar.gz PackageFileSize: 507.9 KiB