Package: flowCyBar Version: 1.43.0 Command: /Library/Frameworks/R.framework/Resources/bin/R CMD INSTALL flowCyBar StartedAt: 2025-02-17 15:07:18 -0500 (Mon, 17 Feb 2025) EndedAt: 2025-02-17 15:07:46 -0500 (Mon, 17 Feb 2025) EllapsedTime: 27.6 seconds RetCode: 0 Status: OK