Package: flowCyBar Version: 1.43.0 Command: /Library/Frameworks/R.framework/Resources/bin/R CMD build --keep-empty-dirs --no-resave-data flowCyBar StartedAt: 2025-02-17 16:41:45 -0500 (Mon, 17 Feb 2025) EndedAt: 2025-02-17 16:42:08 -0500 (Mon, 17 Feb 2025) EllapsedTime: 22.9 seconds RetCode: 0 Status: OK PackageFile: flowCyBar_1.43.0.tar.gz PackageFileSize: 507.7 KiB