Package: flowCyBar Version: 1.43.0 Command: rm -rf flowCyBar.buildbin-libdir && mkdir flowCyBar.buildbin-libdir && /Users/biocbuild/BBS/utils/build-universal.sh flowCyBar_1.43.0.tar.gz /Library/Frameworks/R.framework/Resources/bin/R flowCyBar.buildbin-libdir StartedAt: 2025-02-18 00:25:14 -0500 (Tue, 18 Feb 2025) EndedAt: 2025-02-18 00:25:24 -0500 (Tue, 18 Feb 2025) EllapsedTime: 9.3 seconds RetCode: 0 Status: OK PackageFile: flowCyBar_1.43.0.tgz PackageFileSize: 533.2 KiB