Package: flowCut Version: 1.17.0 Command: chmod a+r flowCut -R && E:\biocbuild\bbs-3.21-bioc\R\bin\R.exe CMD build --keep-empty-dirs --no-resave-data flowCut StartedAt: 2025-02-19 18:45:37 -0500 (Wed, 19 Feb 2025) EndedAt: 2025-02-19 18:46:12 -0500 (Wed, 19 Feb 2025) EllapsedTime: 34.9 seconds RetCode: 0 Status: OK PackageFile: flowCut_1.17.0.tar.gz PackageFileSize: 6.732 MiB