Package: flowClust Version: 3.45.0 Command: /home/biocbuild/bbs-3.21-bioc/R/bin/R CMD INSTALL flowClust StartedAt: 2025-02-20 15:51:14 -0500 (Thu, 20 Feb 2025) EndedAt: 2025-02-20 15:52:52 -0500 (Thu, 20 Feb 2025) EllapsedTime: 97.8 seconds RetCode: 0 Status: OK