Package: flowClust Version: 3.45.0 Command: /home/biocbuild/bbs-3.21-bioc/R/bin/R CMD check --install=check:flowClust.install-out.txt --library=/home/biocbuild/bbs-3.21-bioc/R/site-library --timings flowClust_3.45.0.tar.gz StartedAt: 2025-02-19 22:17:30 -0500 (Wed, 19 Feb 2025) EndedAt: 2025-02-19 22:20:27 -0500 (Wed, 19 Feb 2025) EllapsedTime: 176.3 seconds RetCode: 0 Status: WARNINGS CheckDir: flowClust.Rcheck Warnings: 1