Package: flowClust Version: 3.45.0 Command: /Library/Frameworks/R.framework/Resources/bin/R CMD INSTALL flowClust StartedAt: 2025-02-20 15:12:08 -0500 (Thu, 20 Feb 2025) EndedAt: 2025-02-20 15:15:49 -0500 (Thu, 20 Feb 2025) EllapsedTime: 220.3 seconds RetCode: 0 Status: OK