Package: flowClean Version: 1.45.0 Command: rm -rf flowClean.buildbin-libdir && mkdir flowClean.buildbin-libdir && E:\biocbuild\bbs-3.21-bioc\R\bin\R.exe CMD INSTALL --build --library=flowClean.buildbin-libdir flowClean_1.45.0.tar.gz StartedAt: 2025-02-21 08:06:38 -0500 (Fri, 21 Feb 2025) EndedAt: 2025-02-21 08:06:52 -0500 (Fri, 21 Feb 2025) EllapsedTime: 13.6 seconds RetCode: 0 Status: OK PackageFile: flowClean_1.45.0.zip PackageFileSize: 4.629 MiB