Package: flowClean Version: 1.45.0 Command: /home/biocbuild/bbs-3.21-bioc/R/bin/R CMD INSTALL flowClean StartedAt: 2025-02-20 15:22:44 -0500 (Thu, 20 Feb 2025) EndedAt: 2025-02-20 15:22:52 -0500 (Thu, 20 Feb 2025) EllapsedTime: 7.2 seconds RetCode: 0 Status: OK