Package: flowClean Version: 1.45.0 Command: /home/biocbuild/R/R/bin/R CMD INSTALL flowClean StartedAt: 2025-01-29 19:42:19 -0000 (Wed, 29 Jan 2025) EndedAt: 2025-01-29 19:42:29 -0000 (Wed, 29 Jan 2025) EllapsedTime: 10.0 seconds RetCode: 0 Status: OK