Package: flowClean Version: 1.45.0 Command: /home/biocbuild/R/R/bin/R CMD build --keep-empty-dirs --no-resave-data flowClean StartedAt: 2025-01-28 22:55:01 -0000 (Tue, 28 Jan 2025) EndedAt: 2025-01-28 22:55:40 -0000 (Tue, 28 Jan 2025) EllapsedTime: 39.0 seconds RetCode: 0 Status: OK PackageFile: flowClean_1.45.0.tar.gz PackageFileSize: 4.704 MiB