Package: flowClean Version: 1.45.0 Command: /Library/Frameworks/R.framework/Resources/bin/R CMD check --install=check:flowClean.install-out.txt --library=/Library/Frameworks/R.framework/Resources/library --no-vignettes --timings flowClean_1.45.0.tar.gz StartedAt: 2025-02-19 19:19:38 -0500 (Wed, 19 Feb 2025) EndedAt: 2025-02-19 19:20:08 -0500 (Wed, 19 Feb 2025) EllapsedTime: 29.4 seconds RetCode: 0 Status: WARNINGS CheckDir: flowClean.Rcheck Warnings: 3