Package: flowClean Version: 1.45.0 Command: /Library/Frameworks/R.framework/Resources/bin/R CMD build --keep-empty-dirs --no-resave-data flowClean StartedAt: 2025-02-19 16:21:28 -0500 (Wed, 19 Feb 2025) EndedAt: 2025-02-19 16:21:42 -0500 (Wed, 19 Feb 2025) EllapsedTime: 14.1 seconds RetCode: 0 Status: OK PackageFile: flowClean_1.45.0.tar.gz PackageFileSize: 4.924 MiB