Package: flowClean Version: 1.45.0 Command: rm -rf flowClean.buildbin-libdir && mkdir flowClean.buildbin-libdir && /Users/biocbuild/BBS/utils/build-universal.sh flowClean_1.45.0.tar.gz /Library/Frameworks/R.framework/Resources/bin/R flowClean.buildbin-libdir StartedAt: 2025-02-19 22:22:15 -0500 (Wed, 19 Feb 2025) EndedAt: 2025-02-19 22:22:19 -0500 (Wed, 19 Feb 2025) EllapsedTime: 4.1 seconds RetCode: 0 Status: OK PackageFile: flowClean_1.45.0.tgz PackageFileSize: 4.961 MiB