Package: flowCHIC Version: 1.41.0 Command: /Library/Frameworks/R.framework/Resources/bin/R CMD build --keep-empty-dirs --no-resave-data flowCHIC StartedAt: 2025-02-19 16:42:44 -0500 (Wed, 19 Feb 2025) EndedAt: 2025-02-19 16:43:25 -0500 (Wed, 19 Feb 2025) EllapsedTime: 41.1 seconds RetCode: 0 Status: OK PackageFile: flowCHIC_1.41.0.tar.gz PackageFileSize: 3.24 MiB