Package: flowBin Version: 1.43.0 Command: E:\biocbuild\bbs-3.21-bioc\R\bin\R.exe CMD INSTALL flowBin StartedAt: 2025-02-19 15:44:15 -0500 (Wed, 19 Feb 2025) EndedAt: 2025-02-19 15:44:48 -0500 (Wed, 19 Feb 2025) EllapsedTime: 33.8 seconds RetCode: 0 Status: OK