Package: flowBin Version: 1.43.0 Command: E:\biocbuild\bbs-3.21-bioc\R\bin\R.exe CMD check --no-multiarch --install=check:flowBin.install-out.txt --library=E:\biocbuild\bbs-3.21-bioc\R\library --no-vignettes --timings flowBin_1.43.0.tar.gz StartedAt: 2025-02-20 01:11:25 -0500 (Thu, 20 Feb 2025) EndedAt: 2025-02-20 01:13:09 -0500 (Thu, 20 Feb 2025) EllapsedTime: 103.5 seconds RetCode: 0 Status: OK CheckDir: flowBin.Rcheck Warnings: 0