Package: flowBin Version: 1.43.0 Command: /home/biocbuild/bbs-3.21-bioc/R/bin/R CMD check --install=check:flowBin.install-out.txt --library=/home/biocbuild/bbs-3.21-bioc/R/site-library --timings flowBin_1.43.0.tar.gz StartedAt: 2025-02-20 22:03:36 -0500 (Thu, 20 Feb 2025) EndedAt: 2025-02-20 22:05:00 -0500 (Thu, 20 Feb 2025) EllapsedTime: 84.1 seconds RetCode: 0 Status: OK CheckDir: flowBin.Rcheck Warnings: 0