Package: flowBin Version: 1.43.0 Command: /Library/Frameworks/R.framework/Resources/bin/R CMD INSTALL flowBin StartedAt: 2025-02-20 15:12:57 -0500 (Thu, 20 Feb 2025) EndedAt: 2025-02-20 15:13:11 -0500 (Thu, 20 Feb 2025) EllapsedTime: 14.3 seconds RetCode: 0 Status: OK