Package: flowBin Version: 1.43.0 Command: /home/biocbuild/R/R/bin/R CMD INSTALL flowBin StartedAt: 2025-01-29 19:43:17 -0000 (Wed, 29 Jan 2025) EndedAt: 2025-01-29 19:43:31 -0000 (Wed, 29 Jan 2025) EllapsedTime: 13.9 seconds RetCode: 0 Status: OK