Package: flowBin Version: 1.43.0 Command: /home/biocbuild/R/R/bin/R CMD check --install=check:flowBin.install-out.txt --library=/home/biocbuild/R/R/site-library --no-vignettes --timings flowBin_1.43.0.tar.gz StartedAt: 2025-01-28 10:38:41 -0000 (Tue, 28 Jan 2025) EndedAt: 2025-01-28 10:40:17 -0000 (Tue, 28 Jan 2025) EllapsedTime: 96.1 seconds RetCode: 0 Status: OK CheckDir: flowBin.Rcheck Warnings: 0