Package: flowBin Version: 1.43.0 Command: /home/biocbuild/R/R/bin/R CMD build --keep-empty-dirs --no-resave-data flowBin StartedAt: 2025-01-28 22:54:55 -0000 (Tue, 28 Jan 2025) EndedAt: 2025-01-28 22:55:29 -0000 (Tue, 28 Jan 2025) EllapsedTime: 34.0 seconds RetCode: 0 Status: OK PackageFile: flowBin_1.43.0.tar.gz PackageFileSize: 576.5 KiB