Package: flowBeads Version: 1.45.0 Command: E:\biocbuild\bbs-3.21-bioc\R\bin\R.exe CMD INSTALL flowBeads StartedAt: 2025-02-20 15:52:06 -0500 (Thu, 20 Feb 2025) EndedAt: 2025-02-20 15:52:37 -0500 (Thu, 20 Feb 2025) EllapsedTime: 31.5 seconds RetCode: 0 Status: OK