Package: flowBeads Version: 1.45.0 Command: chmod a+r flowBeads -R && E:\biocbuild\bbs-3.21-bioc\R\bin\R.exe CMD build --keep-empty-dirs --no-resave-data flowBeads StartedAt: 2025-02-20 18:46:39 -0500 (Thu, 20 Feb 2025) EndedAt: 2025-02-20 18:47:10 -0500 (Thu, 20 Feb 2025) EllapsedTime: 30.7 seconds RetCode: 0 Status: OK PackageFile: flowBeads_1.45.0.tar.gz PackageFileSize: 834.4 KiB