Package: flowAI Version: 1.37.0 Command: /home/biocbuild/bbs-3.21-bioc/R/bin/R CMD INSTALL flowAI StartedAt: 2025-02-18 15:12:03 -0500 (Tue, 18 Feb 2025) EndedAt: 2025-02-18 15:12:13 -0500 (Tue, 18 Feb 2025) EllapsedTime: 9.8 seconds RetCode: 0 Status: OK