Package: flowAI Version: 1.37.0 Command: /Library/Frameworks/R.framework/Resources/bin/R CMD INSTALL flowAI StartedAt: 2025-02-20 15:23:29 -0500 (Thu, 20 Feb 2025) EndedAt: 2025-02-20 15:23:42 -0500 (Thu, 20 Feb 2025) EllapsedTime: 13.2 seconds RetCode: 0 Status: OK