Package: flowAI Version: 1.37.0 Command: /Library/Frameworks/R.framework/Resources/bin/R CMD check --install=check:flowAI.install-out.txt --library=/Library/Frameworks/R.framework/Resources/library --no-vignettes --timings flowAI_1.37.0.tar.gz StartedAt: 2025-02-20 20:28:06 -0500 (Thu, 20 Feb 2025) EndedAt: 2025-02-20 20:29:28 -0500 (Thu, 20 Feb 2025) EllapsedTime: 81.7 seconds RetCode: 0 Status: OK CheckDir: flowAI.Rcheck Warnings: 0