Package: flagme Version: 1.63.0 Command: E:\biocbuild\bbs-3.21-bioc\R\bin\R.exe CMD check --no-multiarch --install=check:flagme.install-out.txt --library=E:\biocbuild\bbs-3.21-bioc\R\library --no-vignettes --timings flagme_1.63.0.tar.gz StartedAt: 2025-02-22 01:53:53 -0500 (Sat, 22 Feb 2025) EndedAt: 2025-02-22 02:15:48 -0500 (Sat, 22 Feb 2025) EllapsedTime: 1315.1 seconds RetCode: 0 Status: WARNINGS CheckDir: flagme.Rcheck Warnings: 2