Package: flagme Version: 1.63.0 Command: /Library/Frameworks/R.framework/Resources/bin/R CMD INSTALL flagme StartedAt: 2025-02-20 15:34:07 -0500 (Thu, 20 Feb 2025) EndedAt: 2025-02-20 15:35:09 -0500 (Thu, 20 Feb 2025) EllapsedTime: 62.5 seconds RetCode: 0 Status: OK