Package: flagme Version: 1.63.0 Command: /Library/Frameworks/R.framework/Resources/bin/R CMD build --keep-empty-dirs --no-resave-data flagme StartedAt: 2025-02-20 16:41:55 -0500 (Thu, 20 Feb 2025) EndedAt: 2025-02-20 16:45:36 -0500 (Thu, 20 Feb 2025) EllapsedTime: 221.0 seconds RetCode: 0 Status: OK PackageFile: flagme_1.63.0.tar.gz PackageFileSize: 725.6 KiB