Package: flagme Version: 1.63.0 Command: /Library/Frameworks/R.framework/Resources/bin/R CMD check --install=check:flagme.install-out.txt --library=/Library/Frameworks/R.framework/Resources/library --no-vignettes --timings flagme_1.63.0.tar.gz StartedAt: 2025-02-20 19:17:19 -0500 (Thu, 20 Feb 2025) EndedAt: 2025-02-20 19:22:36 -0500 (Thu, 20 Feb 2025) EllapsedTime: 317.0 seconds RetCode: 0 Status: WARNINGS CheckDir: flagme.Rcheck Warnings: 2