Package: fishpond Version: 2.13.0 Command: /home/biocbuild/bbs-3.21-bioc/R/bin/R CMD build --keep-empty-dirs --no-resave-data fishpond StartedAt: 2025-02-19 17:14:58 -0500 (Wed, 19 Feb 2025) EndedAt: 2025-02-19 17:19:01 -0500 (Wed, 19 Feb 2025) EllapsedTime: 243.4 seconds RetCode: 0 Status: OK PackageFile: fishpond_2.13.0.tar.gz PackageFileSize: 3.915 MiB