Package: fishpond Version: 2.13.0 Command: /Library/Frameworks/R.framework/Resources/bin/R CMD INSTALL fishpond StartedAt: 2025-02-19 15:11:23 -0500 (Wed, 19 Feb 2025) EndedAt: 2025-02-19 15:12:02 -0500 (Wed, 19 Feb 2025) EllapsedTime: 38.9 seconds RetCode: 0 Status: OK