Package: findIPs Version: 1.3.1 Command: E:\biocbuild\bbs-3.21-bioc\R\bin\R.exe CMD INSTALL findIPs StartedAt: 2025-02-20 16:06:12 -0500 (Thu, 20 Feb 2025) EndedAt: 2025-02-20 16:06:38 -0500 (Thu, 20 Feb 2025) EllapsedTime: 26.0 seconds RetCode: 0 Status: OK